BEGIN:VCALENDAR
VERSION:2.0
PRODID:-//Idaho State Public Defender - ECPv6.15.20//NONSGML v1.0//EN
CALSCALE:GREGORIAN
METHOD:PUBLISH
X-WR-CALNAME:Idaho State Public Defender
X-ORIGINAL-URL:https://spd.idaho.gov
X-WR-CALDESC:Events for Idaho State Public Defender
REFRESH-INTERVAL;VALUE=DURATION:PT1H
X-Robots-Tag:noindex
X-PUBLISHED-TTL:PT1H
BEGIN:VTIMEZONE
TZID:UTC
BEGIN:STANDARD
TZOFFSETFROM:+0000
TZOFFSETTO:+0000
TZNAME:UTC
DTSTART:20230101T000000
END:STANDARD
END:VTIMEZONE
BEGIN:VEVENT
DTSTART;TZID=UTC:20241023T123000
DTEND;TZID=UTC:20241023T133000
DTSTAMP:20260424T075238
CREATED:20240827T215835Z
LAST-MODIFIED:20240912T173446Z
UID:1560-1729686600-1729690200@spd.idaho.gov
SUMMARY:Elevate Your Legal Practice with LexisNexis: Mastering Advanced Research and Drafting Techniques
DESCRIPTION:This training session empowers attendees with cutting-edge research and drafting techniques\, leveraging the full capabilities of LexisNexis to streamline workflow and deliver exceptional results.  Participants explore advanced search strategies\, including Lexis Answers\, Ravel View\, Code Compare\, and Shepard’s At Risk\, enabling efficient and comprehensive legal research\, as well as staying up to date on legal news and trends. \n\n\n\nBeyond research\, attendees will learn how to leverage the insights on Document Analysis to further streamline the drafting process – and earn 1 SPD CLE credit. The training is online and will be held from 12:30 to 1:30 p.m. MT. Click here to register.
URL:https://spd.idaho.gov/event/elevate-your-legal-practice-with-lexisnexis-mastering-advanced-research-and-drafting-techniques/
END:VEVENT
END:VCALENDAR